BEGIN:VCALENDAR
VERSION:2.0
PRODID:-//Tukios.com/
BEGIN:VEVENT
UID:89b5639f-a9d5-4c03-b26d-0934eb447305@www.ascendweston.org
DTSTAMP:20260422T170723Z
DTSTART:20260425T200000Z
DTEND:20260425T210000Z
SUMMARY:Funeral Service
DESCRIPTION:
URL:https://www.ascendweston.org/obituaries/josiah-juedes
LOCATION:The Village Church 1485 Village Way Drive  Kronenwetter WI 54455
GEO:44.855839;-89.640105
END:VEVENT
END:VCALENDAR